BEGIN:VCALENDAR
VERSION:2.0
PRODID:-//wp-events-plugin.com//7.2.3.1//EN
BEGIN:VEVENT
UID:137@16ruedeplaisance.org
DTSTART;TZID=Europe/Paris;VALUE=DATE:20141220
DTEND;TZID=Europe/Paris;VALUE=DATE:20141221
DTSTAMP:20180723T134000Z
URL:https://www.16ruedeplaisance.org/evenements/le-jardin-du-possible-15/
SUMMARY:Le Jardin du possible
DESCRIPTION:
ATTACH;FMTTYPE=image/jpeg:https://www.16ruedeplaisance.org/wp-content/uplo
 ads/2018/04/le-jardin-du-possible-dominique-verite.jpg
CATEGORIES:Benoit Sicat
LOCATION:Théâtre de Laval\, 34 rue de la Paix\, Laval\, France
GEO:48.0707437;-0.7674425999999812
X-APPLE-STRUCTURED-LOCATION;VALUE=URI;X-ADDRESS=34 rue de la Paix\, Laval\,
  France;X-APPLE-RADIUS=100;X-TITLE=Théâtre de Laval:geo:48.0707437,-0.76
 74425999999812
END:VEVENT
BEGIN:VTIMEZONE
TZID:Europe/Paris
X-LIC-LOCATION:Europe/Paris
BEGIN:STANDARD
DTSTART:20141026T020000
TZOFFSETFROM:+0200
TZOFFSETTO:+0100
TZNAME:CET
END:STANDARD
END:VTIMEZONE
END:VCALENDAR