BEGIN:VCALENDAR
VERSION:2.0
PRODID:-//wp-events-plugin.com//7.2.3.1//EN
BEGIN:VEVENT
UID:138@16ruedeplaisance.org
DTSTART;TZID=Europe/Paris;VALUE=DATE:20131130
DTEND;TZID=Europe/Paris;VALUE=DATE:20131202
DTSTAMP:20180723T134438Z
URL:https://www.16ruedeplaisance.org/evenements/le-jardin-du-possible-16/
SUMMARY:Le Jardin du possible
DESCRIPTION:Dans le cadre du festival Micromondes
ATTACH;FMTTYPE=image/jpeg:https://www.16ruedeplaisance.org/wp-content/uplo
 ads/2018/04/le-jardin-du-possible-dominique-verite.jpg
CATEGORIES:Benoit Sicat
LOCATION:Théâtre Nouvelle Génération\, 23 Rue de Bourgogne\, Lyon\, Fra
 nce
GEO:45.7771677;4.8034103999999616
X-APPLE-STRUCTURED-LOCATION;VALUE=URI;X-ADDRESS=23 Rue de Bourgogne\, Lyon\
 , France;X-APPLE-RADIUS=100;X-TITLE=Théâtre Nouvelle Génération:geo:45
 .7771677,4.8034103999999616
END:VEVENT
BEGIN:VTIMEZONE
TZID:Europe/Paris
X-LIC-LOCATION:Europe/Paris
BEGIN:STANDARD
DTSTART:20131027T020000
TZOFFSETFROM:+0200
TZOFFSETTO:+0100
TZNAME:CET
END:STANDARD
END:VTIMEZONE
END:VCALENDAR