BEGIN:VCALENDAR
VERSION:2.0
PRODID:-//wp-events-plugin.com//7.2.3.1//EN
BEGIN:VEVENT
UID:140@16ruedeplaisance.org
DTSTART;TZID=Europe/Paris;VALUE=DATE:20130514
DTEND;TZID=Europe/Paris;VALUE=DATE:20130522
DTSTAMP:20180723T134807Z
URL:https://www.16ruedeplaisance.org/evenements/le-jardin-du-possible-18/
SUMMARY:Le Jardin du possible
DESCRIPTION:
ATTACH;FMTTYPE=image/jpeg:https://www.16ruedeplaisance.org/wp-content/uplo
 ads/2018/04/le-jardin-du-possible-dominique-verite.jpg
CATEGORIES:Benoit Sicat
LOCATION:TJP- Centre Dramatique National\,  1 Rue du Pont Saint-Martin\, St
 rasbourg\, France
GEO:48.580322;7.743350599999985
X-APPLE-STRUCTURED-LOCATION;VALUE=URI;X-ADDRESS= 1 Rue du Pont Saint-Martin
 \, Strasbourg\, France;X-APPLE-RADIUS=100;X-TITLE=TJP- Centre Dramatique N
 ational:geo:48.580322,7.743350599999985
END:VEVENT
BEGIN:VTIMEZONE
TZID:Europe/Paris
X-LIC-LOCATION:Europe/Paris
BEGIN:DAYLIGHT
DTSTART:20130331T030000
TZOFFSETFROM:+0100
TZOFFSETTO:+0200
TZNAME:CEST
END:DAYLIGHT
END:VTIMEZONE
END:VCALENDAR