BEGIN:VCALENDAR
VERSION:2.0
PRODID:-//wp-events-plugin.com//7.2.3.1//EN
BEGIN:VEVENT
UID:141@16ruedeplaisance.org
DTSTART;TZID=Europe/Paris;VALUE=DATE:20130424
DTEND;TZID=Europe/Paris;VALUE=DATE:20130425
DTSTAMP:20180723T134930Z
URL:https://www.16ruedeplaisance.org/evenements/le-jardin-du-possible-19/
SUMMARY:Le Jardin du possible
DESCRIPTION:
ATTACH;FMTTYPE=image/jpeg:https://www.16ruedeplaisance.org/wp-content/uplo
 ads/2018/04/le-jardin-du-possible-dominique-verite.jpg
CATEGORIES:Benoit Sicat
LOCATION:Relais Assistantes Maternelles\,   \, Amifontaine\, France
GEO:49.483097;3.915628999999967
X-APPLE-STRUCTURED-LOCATION;VALUE=URI;X-ADDRESS=  \, Amifontaine\, France;X
 -APPLE-RADIUS=100;X-TITLE=Relais Assistantes Maternelles:geo:49.483097,3.9
 15628999999967
END:VEVENT
BEGIN:VTIMEZONE
TZID:Europe/Paris
X-LIC-LOCATION:Europe/Paris
BEGIN:DAYLIGHT
DTSTART:20130331T030000
TZOFFSETFROM:+0100
TZOFFSETTO:+0200
TZNAME:CEST
END:DAYLIGHT
END:VTIMEZONE
END:VCALENDAR