BEGIN:VCALENDAR
VERSION:2.0
PRODID:-//wp-events-plugin.com//7.2.3.1//EN
BEGIN:VEVENT
UID:142@16ruedeplaisance.org
DTSTART;TZID=Europe/Paris;VALUE=DATE:20130409
DTEND;TZID=Europe/Paris;VALUE=DATE:20130413
DTSTAMP:20180723T135048Z
URL:https://www.16ruedeplaisance.org/evenements/le-jardin-du-possible-20/
SUMMARY:Le Jardin du possible
DESCRIPTION:
ATTACH;FMTTYPE=image/jpeg:https://www.16ruedeplaisance.org/wp-content/uplo
 ads/2018/04/le-jardin-du-possible-dominique-verite.jpg
CATEGORIES:Benoit Sicat
LOCATION:MJC Mosaïc\, 13 Boulevard Pasteur\, Lisieux\, France
GEO:49.1463973;0.2212257999999565
X-APPLE-STRUCTURED-LOCATION;VALUE=URI;X-ADDRESS=13 Boulevard Pasteur\, Lisi
 eux\, France;X-APPLE-RADIUS=100;X-TITLE=MJC Mosaïc:geo:49.1463973,0.22122
 57999999565
END:VEVENT
BEGIN:VTIMEZONE
TZID:Europe/Paris
X-LIC-LOCATION:Europe/Paris
BEGIN:DAYLIGHT
DTSTART:20130331T030000
TZOFFSETFROM:+0100
TZOFFSETTO:+0200
TZNAME:CEST
END:DAYLIGHT
END:VTIMEZONE
END:VCALENDAR