BEGIN:VCALENDAR
VERSION:2.0
PRODID:-//wp-events-plugin.com//7.2.3.1//EN
BEGIN:VEVENT
UID:146@16ruedeplaisance.org
DTSTART;TZID=Europe/Paris;VALUE=DATE:20121002
DTEND;TZID=Europe/Paris;VALUE=DATE:20121003
DTSTAMP:20180723T135820Z
URL:https://www.16ruedeplaisance.org/evenements/le-jardin-du-possible-24/
SUMMARY:Le Jardin du possible
DESCRIPTION:
ATTACH;FMTTYPE=image/jpeg:https://www.16ruedeplaisance.org/wp-content/uplo
 ads/2018/04/le-jardin-du-possible-dominique-verite.jpg
CATEGORIES:Benoit Sicat
LOCATION:The International Theatre Festival for Children\, Str. Gen. Consta
 ntin Budișteanu nr. 24\, Bucarest\, Roumanie
GEO:44.443401;26.08991100000003
X-APPLE-STRUCTURED-LOCATION;VALUE=URI;X-ADDRESS=Str. Gen. Constantin Budiș
 teanu nr. 24\, Bucarest\, Roumanie;X-APPLE-RADIUS=100;X-TITLE=The Internat
 ional Theatre Festival for Children:geo:44.443401,26.08991100000003
END:VEVENT
BEGIN:VTIMEZONE
TZID:Europe/Paris
X-LIC-LOCATION:Europe/Paris
BEGIN:DAYLIGHT
DTSTART:20120325T030000
TZOFFSETFROM:+0100
TZOFFSETTO:+0200
TZNAME:CEST
END:DAYLIGHT
END:VTIMEZONE
END:VCALENDAR