BEGIN:VCALENDAR
VERSION:2.0
PRODID:-//wp-events-plugin.com//7.2.3.1//EN
BEGIN:VEVENT
UID:148@16ruedeplaisance.org
DTSTART;TZID=Europe/Paris;VALUE=DATE:20111115
DTEND;TZID=Europe/Paris;VALUE=DATE:20111117
DTSTAMP:20180723T140541Z
URL:https://www.16ruedeplaisance.org/evenements/le-jardin-du-possible-26/
SUMMARY:Le Jardin du possible
DESCRIPTION:
ATTACH;FMTTYPE=image/jpeg:https://www.16ruedeplaisance.org/wp-content/uplo
 ads/2018/04/le-jardin-du-possible-dominique-verite.jpg
CATEGORIES:Benoit Sicat
LOCATION:Ville de Le Genest St Isle\, 2 Place de l'Église\, Le Genest St I
 sle\, France
GEO:48.0973607;-0.8870804000000589
X-APPLE-STRUCTURED-LOCATION;VALUE=URI;X-ADDRESS=2 Place de l'Église\, Le G
 enest St Isle\, France;X-APPLE-RADIUS=100;X-TITLE=Ville de Le Genest St Is
 le:geo:48.0973607,-0.8870804000000589
END:VEVENT
BEGIN:VTIMEZONE
TZID:Europe/Paris
X-LIC-LOCATION:Europe/Paris
BEGIN:STANDARD
DTSTART:20111030T020000
TZOFFSETFROM:+0200
TZOFFSETTO:+0100
TZNAME:CET
END:STANDARD
END:VTIMEZONE
END:VCALENDAR