BEGIN:VCALENDAR
VERSION:2.0
PRODID:-//wp-events-plugin.com//7.2.3.1//EN
BEGIN:VEVENT
UID:149@16ruedeplaisance.org
DTSTART;TZID=Europe/Paris;VALUE=DATE:20110703
DTEND;TZID=Europe/Paris;VALUE=DATE:20110705
DTSTAMP:20180723T140712Z
URL:https://www.16ruedeplaisance.org/evenements/le-jardin-du-possible-27/
SUMMARY:Le Jardin du possible
DESCRIPTION:
ATTACH;FMTTYPE=image/jpeg:https://www.16ruedeplaisance.org/wp-content/uplo
 ads/2018/04/le-jardin-du-possible-dominique-verite.jpg
CATEGORIES:Benoit Sicat
LOCATION:Festival La Marelle - Théâtre Dest\, 31 Rue du Parc\, Maizières
 -lès-Metz\, France
GEO:49.21155779999999;6.15924480000001
X-APPLE-STRUCTURED-LOCATION;VALUE=URI;X-ADDRESS=31 Rue du Parc\, Maizières
 -lès-Metz\, France;X-APPLE-RADIUS=100;X-TITLE=Festival La Marelle - Thé
 âtre Dest:geo:49.21155779999999,6.15924480000001
END:VEVENT
BEGIN:VTIMEZONE
TZID:Europe/Paris
X-LIC-LOCATION:Europe/Paris
BEGIN:DAYLIGHT
DTSTART:20110327T030000
TZOFFSETFROM:+0100
TZOFFSETTO:+0200
TZNAME:CEST
END:DAYLIGHT
END:VTIMEZONE
END:VCALENDAR