BEGIN:VCALENDAR
VERSION:2.0
PRODID:-//wp-events-plugin.com//7.2.3.1//EN
BEGIN:VEVENT
UID:150@16ruedeplaisance.org
DTSTART;TZID=Europe/Paris;VALUE=DATE:20110622
DTEND;TZID=Europe/Paris;VALUE=DATE:20110626
DTSTAMP:20180723T140900Z
URL:https://www.16ruedeplaisance.org/evenements/le-jardin-du-possible-28/
SUMMARY:Le Jardin du possible
DESCRIPTION:
ATTACH;FMTTYPE=image/jpeg:https://www.16ruedeplaisance.org/wp-content/uplo
 ads/2018/04/le-jardin-du-possible-dominique-verite.jpg
CATEGORIES:Benoit Sicat
LOCATION:L'Estaminet\, Esplanade Gérard Philippe\, Magny les Hameaux\, Fra
 nce
GEO:48.7185341;2.1023622999999816
X-APPLE-STRUCTURED-LOCATION;VALUE=URI;X-ADDRESS=Esplanade Gérard Philippe\
 , Magny les Hameaux\, France;X-APPLE-RADIUS=100;X-TITLE=L'Estaminet:geo:48
 .7185341,2.1023622999999816
END:VEVENT
BEGIN:VTIMEZONE
TZID:Europe/Paris
X-LIC-LOCATION:Europe/Paris
BEGIN:DAYLIGHT
DTSTART:20110327T030000
TZOFFSETFROM:+0100
TZOFFSETTO:+0200
TZNAME:CEST
END:DAYLIGHT
END:VTIMEZONE
END:VCALENDAR