BEGIN:VCALENDAR
VERSION:2.0
PRODID:-//wp-events-plugin.com//7.2.3.1//EN
BEGIN:VEVENT
UID:155@16ruedeplaisance.org
DTSTART;TZID=Europe/Paris;VALUE=DATE:20101116
DTEND;TZID=Europe/Paris;VALUE=DATE:20101119
DTSTAMP:20180723T141912Z
URL:https://www.16ruedeplaisance.org/evenements/le-jardin-du-possible-33/
SUMMARY:Le Jardin du possible
DESCRIPTION:
ATTACH;FMTTYPE=image/jpeg:https://www.16ruedeplaisance.org/wp-content/uplo
 ads/2018/04/le-jardin-du-possible-dominique-verite.jpg
CATEGORIES:Benoit Sicat
LOCATION:Centre Culturel\, Place Jean Jaurès\, Ramonville\, France
GEO:43.549062;1.4778929999999946
X-APPLE-STRUCTURED-LOCATION;VALUE=URI;X-ADDRESS=Place Jean Jaurès\, Ramonv
 ille\, France;X-APPLE-RADIUS=100;X-TITLE=Centre Culturel:geo:43.549062,1.4
 778929999999946
END:VEVENT
BEGIN:VTIMEZONE
TZID:Europe/Paris
X-LIC-LOCATION:Europe/Paris
BEGIN:STANDARD
DTSTART:20101031T020000
TZOFFSETFROM:+0200
TZOFFSETTO:+0100
TZNAME:CET
END:STANDARD
END:VTIMEZONE
END:VCALENDAR