BEGIN:VCALENDAR
VERSION:2.0
PRODID:-//wp-events-plugin.com//7.2.3.1//EN
BEGIN:VEVENT
UID:156@16ruedeplaisance.org
DTSTART;TZID=Europe/Paris;VALUE=DATE:20101104
DTEND;TZID=Europe/Paris;VALUE=DATE:20101107
DTSTAMP:20180723T142019Z
URL:https://www.16ruedeplaisance.org/evenements/le-jardin-du-possible-34/
SUMMARY:Le Jardin du possible
DESCRIPTION:
ATTACH;FMTTYPE=image/jpeg:https://www.16ruedeplaisance.org/wp-content/uplo
 ads/2018/04/le-jardin-du-possible-dominique-verite.jpg
CATEGORIES:Benoit Sicat
LOCATION:Armes Teater\, Am Laubengang 15\, Chemnitz \, Allemagne
GEO:50.8292411;12.890620500000068
X-APPLE-STRUCTURED-LOCATION;VALUE=URI;X-ADDRESS=Am Laubengang 15\, Chemnitz
  \, Allemagne;X-APPLE-RADIUS=100;X-TITLE=Armes Teater:geo:50.8292411,12.89
 0620500000068
END:VEVENT
BEGIN:VTIMEZONE
TZID:Europe/Paris
X-LIC-LOCATION:Europe/Paris
BEGIN:STANDARD
DTSTART:20101031T020000
TZOFFSETFROM:+0200
TZOFFSETTO:+0100
TZNAME:CET
END:STANDARD
END:VTIMEZONE
END:VCALENDAR