BEGIN:VCALENDAR
VERSION:2.0
PRODID:-//wp-events-plugin.com//7.2.3.1//EN
BEGIN:VEVENT
UID:159@16ruedeplaisance.org
DTSTART;TZID=Europe/Paris;VALUE=DATE:20100413
DTEND;TZID=Europe/Paris;VALUE=DATE:20100415
DTSTAMP:20180723T143104Z
URL:https://www.16ruedeplaisance.org/evenements/le-jardin-du-possible-37/
SUMMARY:Le Jardin du possible
DESCRIPTION:
ATTACH;FMTTYPE=image/jpeg:https://www.16ruedeplaisance.org/wp-content/uplo
 ads/2018/04/le-jardin-du-possible-dominique-verite.jpg
CATEGORIES:Benoit Sicat
LOCATION:Festival Puy de Mômes\,   \, Cournon d’Auvergne\, France
GEO:45.741532;3.198176999999987
X-APPLE-STRUCTURED-LOCATION;VALUE=URI;X-ADDRESS=  \, Cournon d’Auvergne\,
  France;X-APPLE-RADIUS=100;X-TITLE=Festival Puy de Mômes:geo:45.741532,3.
 198176999999987
END:VEVENT
BEGIN:VTIMEZONE
TZID:Europe/Paris
X-LIC-LOCATION:Europe/Paris
BEGIN:DAYLIGHT
DTSTART:20100328T030000
TZOFFSETFROM:+0100
TZOFFSETTO:+0200
TZNAME:CEST
END:DAYLIGHT
END:VTIMEZONE
END:VCALENDAR