BEGIN:VCALENDAR
VERSION:2.0
PRODID:-//wp-events-plugin.com//7.2.3.1//EN
BEGIN:VEVENT
UID:160@16ruedeplaisance.org
DTSTART;TZID=Europe/Paris;VALUE=DATE:20100312
DTEND;TZID=Europe/Paris;VALUE=DATE:20100321
DTSTAMP:20180723T143441Z
URL:https://www.16ruedeplaisance.org/evenements/le-jardin-du-possible-38/
SUMMARY:Le Jardin du possible
DESCRIPTION:
ATTACH;FMTTYPE=image/jpeg:https://www.16ruedeplaisance.org/wp-content/uplo
 ads/2018/04/le-jardin-du-possible-dominique-verite.jpg
CATEGORIES:Benoit Sicat
LOCATION:Festival Opening Doors\, Pays de Galles\, Pontardawe\, Royaume-Uni
GEO:51.72043499999999;-3.8532149999999774
X-APPLE-STRUCTURED-LOCATION;VALUE=URI;X-ADDRESS=Pays de Galles\, Pontardawe
 \, Royaume-Uni;X-APPLE-RADIUS=100;X-TITLE=Festival Opening Doors:geo:51.72
 043499999999,-3.8532149999999774
END:VEVENT
BEGIN:VTIMEZONE
TZID:Europe/Paris
X-LIC-LOCATION:Europe/Paris
BEGIN:STANDARD
DTSTART:20091025T020000
TZOFFSETFROM:+0200
TZOFFSETTO:+0100
TZNAME:CET
END:STANDARD
END:VTIMEZONE
END:VCALENDAR