BEGIN:VCALENDAR
VERSION:2.0
PRODID:-//wp-events-plugin.com//7.2.3.1//EN
BEGIN:VEVENT
UID:163@16ruedeplaisance.org
DTSTART;TZID=Europe/Paris;VALUE=DATE:20090527
DTEND;TZID=Europe/Paris;VALUE=DATE:20090530
DTSTAMP:20180727T143608Z
URL:https://www.16ruedeplaisance.org/evenements/le-jardin-du-possible-41/
SUMMARY:Le Jardin du possible
DESCRIPTION:
ATTACH;FMTTYPE=image/jpeg:https://www.16ruedeplaisance.org/wp-content/uplo
 ads/2018/04/le-jardin-du-possible-dominique-verite.jpg
CATEGORIES:Benoit Sicat
LOCATION:Centre des arts\, 10 Boulevard Bougainville\, Concarneau\, France
GEO:47.8700961;-3.921761100000026
X-APPLE-STRUCTURED-LOCATION;VALUE=URI;X-ADDRESS=10 Boulevard Bougainville\,
  Concarneau\, France;X-APPLE-RADIUS=100;X-TITLE=Centre des arts:geo:47.870
 0961,-3.921761100000026
END:VEVENT
BEGIN:VTIMEZONE
TZID:Europe/Paris
X-LIC-LOCATION:Europe/Paris
BEGIN:DAYLIGHT
DTSTART:20090329T030000
TZOFFSETFROM:+0100
TZOFFSETTO:+0200
TZNAME:CEST
END:DAYLIGHT
END:VTIMEZONE
END:VCALENDAR