BEGIN:VCALENDAR
VERSION:2.0
PRODID:-//wp-events-plugin.com//7.2.3.1//EN
BEGIN:VEVENT
UID:165@16ruedeplaisance.org
DTSTART;TZID=Europe/Paris;VALUE=DATE:20090322
DTEND;TZID=Europe/Paris;VALUE=DATE:20090323
DTSTAMP:20180727T144215Z
URL:https://www.16ruedeplaisance.org/evenements/le-jardin-du-possible-43/
SUMMARY:Le Jardin du possible
DESCRIPTION:
ATTACH;FMTTYPE=image/jpeg:https://www.16ruedeplaisance.org/wp-content/uplo
 ads/2018/04/le-jardin-du-possible-dominique-verite.jpg
CATEGORIES:Benoit Sicat
LOCATION:Mairie de Plouguerneau\,  \, Plouguerneau\, France
GEO:48.6059259;-4.504517999999962
X-APPLE-STRUCTURED-LOCATION;VALUE=URI;X-ADDRESS= \, Plouguerneau\, France;X
 -APPLE-RADIUS=100;X-TITLE=Mairie de Plouguerneau:geo:48.6059259,-4.5045179
 99999962
END:VEVENT
BEGIN:VTIMEZONE
TZID:Europe/Paris
X-LIC-LOCATION:Europe/Paris
BEGIN:STANDARD
DTSTART:20081026T020000
TZOFFSETFROM:+0200
TZOFFSETTO:+0100
TZNAME:CET
END:STANDARD
END:VTIMEZONE
END:VCALENDAR