BEGIN:VCALENDAR
VERSION:2.0
PRODID:-//wp-events-plugin.com//7.2.3.1//EN
BEGIN:VEVENT
UID:166@16ruedeplaisance.org
DTSTART;TZID=Europe/Paris;VALUE=DATE:20090130
DTEND;TZID=Europe/Paris;VALUE=DATE:20090201
DTSTAMP:20180727T144357Z
URL:https://www.16ruedeplaisance.org/evenements/le-jardin-du-possible-44/
SUMMARY:Le Jardin du possible
DESCRIPTION:Dans le cadre du festival Prom'nons nous
ATTACH;FMTTYPE=image/jpeg:https://www.16ruedeplaisance.org/wp-content/uplo
 ads/2018/04/le-jardin-du-possible-dominique-verite.jpg
CATEGORIES:Benoit Sicat
LOCATION:Centre culturel Le Forum\, Place du Brigadier Eric Marot\, Nivilla
 c\, France
GEO:47.5354921;-2.2837964000000284
X-APPLE-STRUCTURED-LOCATION;VALUE=URI;X-ADDRESS=Place du Brigadier Eric Mar
 ot\, Nivillac\, France;X-APPLE-RADIUS=100;X-TITLE=Centre culturel Le Forum
 :geo:47.5354921,-2.2837964000000284
END:VEVENT
BEGIN:VTIMEZONE
TZID:Europe/Paris
X-LIC-LOCATION:Europe/Paris
BEGIN:STANDARD
DTSTART:20081026T020000
TZOFFSETFROM:+0200
TZOFFSETTO:+0100
TZNAME:CET
END:STANDARD
END:VTIMEZONE
END:VCALENDAR