BEGIN:VCALENDAR
VERSION:2.0
PRODID:-//wp-events-plugin.com//7.2.3.1//EN
BEGIN:VEVENT
UID:167@16ruedeplaisance.org
DTSTART;TZID=Europe/Paris;VALUE=DATE:20090127
DTEND;TZID=Europe/Paris;VALUE=DATE:20090129
DTSTAMP:20180727T144450Z
URL:https://www.16ruedeplaisance.org/evenements/le-jardin-du-possible-45/
SUMMARY:Le Jardin du possible
DESCRIPTION:
ATTACH;FMTTYPE=image/jpeg:https://www.16ruedeplaisance.org/wp-content/uplo
 ads/2018/04/le-jardin-du-possible-dominique-verite.jpg
CATEGORIES:Benoit Sicat
LOCATION:Le Dôme\, 1 Rue des Droits de l'Homme\, Saint Avé\, France
GEO:47.691789;-2.7437982000000147
X-APPLE-STRUCTURED-LOCATION;VALUE=URI;X-ADDRESS=1 Rue des Droits de l'Homme
 \, Saint Avé\, France;X-APPLE-RADIUS=100;X-TITLE=Le Dôme:geo:47.691789,-
 2.7437982000000147
END:VEVENT
BEGIN:VTIMEZONE
TZID:Europe/Paris
X-LIC-LOCATION:Europe/Paris
BEGIN:STANDARD
DTSTART:20081026T020000
TZOFFSETFROM:+0200
TZOFFSETTO:+0100
TZNAME:CET
END:STANDARD
END:VTIMEZONE
END:VCALENDAR