BEGIN:VCALENDAR
VERSION:2.0
PRODID:-//wp-events-plugin.com//7.2.3.1//EN
BEGIN:VEVENT
UID:168@16ruedeplaisance.org
DTSTART;TZID=Europe/Paris;VALUE=DATE:20090105
DTEND;TZID=Europe/Paris;VALUE=DATE:20090116
DTSTAMP:20180727T144624Z
URL:https://www.16ruedeplaisance.org/evenements/le-jardin-du-possible-46/
SUMMARY:Le Jardin du possible
DESCRIPTION:
ATTACH;FMTTYPE=image/jpeg:https://www.16ruedeplaisance.org/wp-content/uplo
 ads/2018/04/le-jardin-du-possible-dominique-verite.jpg
CATEGORIES:Benoit Sicat
LOCATION:Communauté de communes du Haut Béarn\, 12 Place de Jaca\, Oloron
  Saint Marie\, France
GEO:43.1886948;-0.6110890999999583
X-APPLE-STRUCTURED-LOCATION;VALUE=URI;X-ADDRESS=12 Place de Jaca\, Oloron S
 aint Marie\, France;X-APPLE-RADIUS=100;X-TITLE=Communauté de communes du 
 Haut Béarn:geo:43.1886948,-0.6110890999999583
END:VEVENT
BEGIN:VTIMEZONE
TZID:Europe/Paris
X-LIC-LOCATION:Europe/Paris
BEGIN:STANDARD
DTSTART:20081026T020000
TZOFFSETFROM:+0200
TZOFFSETTO:+0100
TZNAME:CET
END:STANDARD
END:VTIMEZONE
END:VCALENDAR