BEGIN:VCALENDAR
VERSION:2.0
PRODID:-//wp-events-plugin.com//7.2.3.1//EN
BEGIN:VEVENT
UID:170@16ruedeplaisance.org
DTSTART;TZID=Europe/Paris;VALUE=DATE:20081123
DTEND;TZID=Europe/Paris;VALUE=DATE:20081127
DTSTAMP:20180727T145052Z
URL:https://www.16ruedeplaisance.org/evenements/le-jardin-du-possible-48/
SUMMARY:Le Jardin du possible
DESCRIPTION:Dans le cadre des Jardins d'oeuvriers
ATTACH;FMTTYPE=image/jpeg:https://www.16ruedeplaisance.org/wp-content/uplo
 ads/2018/04/le-jardin-du-possible-dominique-verite.jpg
CATEGORIES:Benoit Sicat
LOCATION:Le Lario\,  \, Ecouflant\, France
GEO:47.5301462;-0.5279371999999967
X-APPLE-STRUCTURED-LOCATION;VALUE=URI;X-ADDRESS= \, Ecouflant\, France;X-AP
 PLE-RADIUS=100;X-TITLE=Le Lario:geo:47.5301462,-0.5279371999999967
END:VEVENT
BEGIN:VTIMEZONE
TZID:Europe/Paris
X-LIC-LOCATION:Europe/Paris
BEGIN:STANDARD
DTSTART:20081026T020000
TZOFFSETFROM:+0200
TZOFFSETTO:+0100
TZNAME:CET
END:STANDARD
END:VTIMEZONE
END:VCALENDAR