BEGIN:VCALENDAR
VERSION:2.0
PRODID:-//wp-events-plugin.com//7.2.3.1//EN
BEGIN:VEVENT
UID:127@16ruedeplaisance.org
DTSTART;TZID=Europe/Paris;VALUE=DATE:20160407
DTEND;TZID=Europe/Paris;VALUE=DATE:20160408
DTSTAMP:20180723T130328Z
URL:https://www.16ruedeplaisance.org/evenements/le-jardin-du-possible-5/
SUMMARY:Le Jardin du possible
DESCRIPTION:
ATTACH;FMTTYPE=image/jpeg:https://www.16ruedeplaisance.org/wp-content/uplo
 ads/2018/04/le-jardin-du-possible-dominique-verite.jpg
CATEGORIES:Benoit Sicat
LOCATION:Association Fil en trope\,  6 Rue Vigarozy\, Mirepoix\, France
GEO:43.0898226;1.8749493000000257
X-APPLE-STRUCTURED-LOCATION;VALUE=URI;X-ADDRESS= 6 Rue Vigarozy\, Mirepoix\
 , France;X-APPLE-RADIUS=100;X-TITLE=Association Fil en trope:geo:43.089822
 6,1.8749493000000257
END:VEVENT
BEGIN:VTIMEZONE
TZID:Europe/Paris
X-LIC-LOCATION:Europe/Paris
BEGIN:DAYLIGHT
DTSTART:20160327T030000
TZOFFSETFROM:+0100
TZOFFSETTO:+0200
TZNAME:CEST
END:DAYLIGHT
END:VTIMEZONE
END:VCALENDAR