BEGIN:VCALENDAR
VERSION:2.0
PRODID:-//wp-events-plugin.com//7.2.3.1//EN
BEGIN:VEVENT
UID:172@16ruedeplaisance.org
DTSTART;TZID=Europe/Paris;VALUE=DATE:20081018
DTEND;TZID=Europe/Paris;VALUE=DATE:20081019
DTSTAMP:20180727T145325Z
URL:https://www.16ruedeplaisance.org/evenements/le-jardin-du-possible-50/
SUMMARY:Le Jardin du possible
DESCRIPTION:
ATTACH;FMTTYPE=image/jpeg:https://www.16ruedeplaisance.org/wp-content/uplo
 ads/2018/04/le-jardin-du-possible-dominique-verite.jpg
CATEGORIES:Benoit Sicat
LOCATION:Festival Assitej Eesti Keskus\,  \, Pärnu\, Estonie
GEO:58.3916898;24.495289400000047
X-APPLE-STRUCTURED-LOCATION;VALUE=URI;X-ADDRESS= \, Pärnu\, Estonie;X-APPL
 E-RADIUS=100;X-TITLE=Festival Assitej Eesti Keskus:geo:58.3916898,24.49528
 9400000047
END:VEVENT
BEGIN:VTIMEZONE
TZID:Europe/Paris
X-LIC-LOCATION:Europe/Paris
BEGIN:DAYLIGHT
DTSTART:20080330T030000
TZOFFSETFROM:+0100
TZOFFSETTO:+0200
TZNAME:CEST
END:DAYLIGHT
END:VTIMEZONE
END:VCALENDAR