BEGIN:VCALENDAR
VERSION:2.0
PRODID:-//wp-events-plugin.com//7.2.3.1//EN
BEGIN:VEVENT
UID:173@16ruedeplaisance.org
DTSTART;TZID=Europe/Paris;VALUE=DATE:20081008
DTEND;TZID=Europe/Paris;VALUE=DATE:20081009
DTSTAMP:20180727T145429Z
URL:https://www.16ruedeplaisance.org/evenements/le-jardin-du-possible-51/
SUMMARY:Le Jardin du possible
DESCRIPTION:
ATTACH;FMTTYPE=image/jpeg:https://www.16ruedeplaisance.org/wp-content/uplo
 ads/2018/04/le-jardin-du-possible-dominique-verite.jpg
CATEGORIES:Benoit Sicat
LOCATION:Archives de Rennes\, 1 rue Jacques Léonard\, Rennes\, France
GEO:48.1288316;-1.6937637999999424
X-APPLE-STRUCTURED-LOCATION;VALUE=URI;X-ADDRESS=1 rue Jacques Léonard\, Re
 nnes\, France;X-APPLE-RADIUS=100;X-TITLE=Archives de Rennes:geo:48.1288316
 ,-1.6937637999999424
END:VEVENT
BEGIN:VTIMEZONE
TZID:Europe/Paris
X-LIC-LOCATION:Europe/Paris
BEGIN:DAYLIGHT
DTSTART:20080330T030000
TZOFFSETFROM:+0100
TZOFFSETTO:+0200
TZNAME:CEST
END:DAYLIGHT
END:VTIMEZONE
END:VCALENDAR