BEGIN:VCALENDAR
VERSION:2.0
PRODID:-//wp-events-plugin.com//7.2.3.1//EN
BEGIN:VEVENT
UID:174@16ruedeplaisance.org
DTSTART;TZID=Europe/Paris;VALUE=DATE:20080522
DTEND;TZID=Europe/Paris;VALUE=DATE:20080523
DTSTAMP:20180727T145532Z
URL:https://www.16ruedeplaisance.org/evenements/le-jardin-du-possible-52/
SUMMARY:Le Jardin du possible
DESCRIPTION:
ATTACH;FMTTYPE=image/jpeg:https://www.16ruedeplaisance.org/wp-content/uplo
 ads/2018/04/le-jardin-du-possible-dominique-verite.jpg
CATEGORIES:Benoit Sicat
LOCATION:Le Temple\, Rue Henri Hermant\, Bruay-la-Buissière\, France
GEO:50.481438;2.5425374999999804
X-APPLE-STRUCTURED-LOCATION;VALUE=URI;X-ADDRESS=Rue Henri Hermant\, Bruay-l
 a-Buissière\, France;X-APPLE-RADIUS=100;X-TITLE=Le Temple:geo:50.481438,2
 .5425374999999804
END:VEVENT
BEGIN:VTIMEZONE
TZID:Europe/Paris
X-LIC-LOCATION:Europe/Paris
BEGIN:DAYLIGHT
DTSTART:20080330T030000
TZOFFSETFROM:+0100
TZOFFSETTO:+0200
TZNAME:CEST
END:DAYLIGHT
END:VTIMEZONE
END:VCALENDAR