BEGIN:VCALENDAR
VERSION:2.0
PRODID:-//wp-events-plugin.com//7.2.3.1//EN
BEGIN:VEVENT
UID:175@16ruedeplaisance.org
DTSTART;TZID=Europe/Paris;VALUE=DATE:20080313
DTEND;TZID=Europe/Paris;VALUE=DATE:20080317
DTSTAMP:20180727T145642Z
URL:https://www.16ruedeplaisance.org/evenements/le-jardin-du-possible-53/
SUMMARY:Le Jardin du possible
DESCRIPTION:
ATTACH;FMTTYPE=image/jpeg:https://www.16ruedeplaisance.org/wp-content/uplo
 ads/2018/04/le-jardin-du-possible-dominique-verite.jpg
CATEGORIES:Benoit Sicat
LOCATION:Dschlungel Wien\,  \, Vienne\, Autriche
GEO:48.2081743;16.37381890000006
X-APPLE-STRUCTURED-LOCATION;VALUE=URI;X-ADDRESS= \, Vienne\, Autriche;X-APP
 LE-RADIUS=100;X-TITLE=Dschlungel Wien:geo:48.2081743,16.37381890000006
END:VEVENT
BEGIN:VTIMEZONE
TZID:Europe/Paris
X-LIC-LOCATION:Europe/Paris
BEGIN:STANDARD
DTSTART:20071028T020000
TZOFFSETFROM:+0200
TZOFFSETTO:+0100
TZNAME:CET
END:STANDARD
END:VTIMEZONE
END:VCALENDAR