BEGIN:VCALENDAR
VERSION:2.0
PRODID:-//wp-events-plugin.com//7.2.3.1//EN
BEGIN:VEVENT
UID:176@16ruedeplaisance.org
DTSTART;TZID=Europe/Paris;VALUE=DATE:20080111
DTEND;TZID=Europe/Paris;VALUE=DATE:20080112
DTSTAMP:20180727T145841Z
URL:https://www.16ruedeplaisance.org/evenements/le-jardin-du-possible-54/
SUMMARY:Le Jardin du possible
DESCRIPTION:
ATTACH;FMTTYPE=image/jpeg:https://www.16ruedeplaisance.org/wp-content/uplo
 ads/2018/04/le-jardin-du-possible-dominique-verite.jpg
CATEGORIES:Benoit Sicat
LOCATION:Communauté de communes des Coëvrons\, 2 Avenue Raoul Vadepied\, 
 Châtres-la-Forêt\, France
GEO:48.144425;-0.4166720000000623
X-APPLE-STRUCTURED-LOCATION;VALUE=URI;X-ADDRESS=2 Avenue Raoul Vadepied\, C
 hâtres-la-Forêt\, France;X-APPLE-RADIUS=100;X-TITLE=Communauté de commu
 nes des Coëvrons:geo:48.144425,-0.4166720000000623
END:VEVENT
BEGIN:VTIMEZONE
TZID:Europe/Paris
X-LIC-LOCATION:Europe/Paris
BEGIN:STANDARD
DTSTART:20071028T020000
TZOFFSETFROM:+0200
TZOFFSETTO:+0100
TZNAME:CET
END:STANDARD
END:VTIMEZONE
END:VCALENDAR