BEGIN:VCALENDAR
VERSION:2.0
PRODID:-//wp-events-plugin.com//7.2.3.1//EN
BEGIN:VEVENT
UID:182@16ruedeplaisance.org
DTSTART;TZID=Europe/Paris;VALUE=DATE:20190224
DTEND;TZID=Europe/Paris;VALUE=DATE:20190302
DTSTAMP:20181218T161612Z
URL:https://www.16ruedeplaisance.org/evenements/le-jardin-du-possible-55/
SUMMARY:Le Jardin du Possible
DESCRIPTION:Séances tout public le 24 février à 10h et le 27 février à
  16h30\nSéances scolaires le 25\, 26  et 28 février et le 1er mars à 9h
 15\, 10h45 et 14h15
ATTACH;FMTTYPE=image/jpeg:https://www.16ruedeplaisance.org/wp-content/uplo
 ads/2018/04/le-jardin-du-possible-dominique-verite.jpg
CATEGORIES:Benoit Sicat
LOCATION:Salle Daniel Féry\, rue Daniel Féry\, Haulchin\, France
GEO:50.317875;3.435987999999952
X-APPLE-STRUCTURED-LOCATION;VALUE=URI;X-ADDRESS=rue Daniel Féry\, Haulchin
 \, France;X-APPLE-RADIUS=100;X-TITLE=Salle Daniel Féry:geo:50.317875,3.43
 5987999999952
END:VEVENT
BEGIN:VTIMEZONE
TZID:Europe/Paris
X-LIC-LOCATION:Europe/Paris
BEGIN:STANDARD
DTSTART:20181028T020000
TZOFFSETFROM:+0200
TZOFFSETTO:+0100
TZNAME:CET
END:STANDARD
END:VTIMEZONE
END:VCALENDAR