BEGIN:VCALENDAR
VERSION:2.0
PRODID:-//wp-events-plugin.com//7.2.3.1//EN
BEGIN:VEVENT
UID:187@16ruedeplaisance.org
DTSTART;TZID=Europe/Paris;VALUE=DATE:20190308
DTEND;TZID=Europe/Paris;VALUE=DATE:20190311
DTSTAMP:20190108T100024Z
URL:https://www.16ruedeplaisance.org/evenements/le-jardin-du-possible-56/
SUMMARY:Le Jardin du Possible
DESCRIPTION:Vendredi 8 mars à 9h30 et 11h\nSamedi 09 mars à 11h\, 16h et 
 17h30\nDimanche 10 mars à 11h\, 16h et 17h30
ATTACH;FMTTYPE=image/jpeg:https://www.16ruedeplaisance.org/wp-content/uplo
 ads/2018/04/le-jardin-du-possible-dominique-verite.jpg
CATEGORIES:Benoit Sicat
LOCATION:Très Tôt Théâtre\, 4 bd Dupleix\, Quimper\, France
GEO:47.9949053;-4.098470499999962
X-APPLE-STRUCTURED-LOCATION;VALUE=URI;X-ADDRESS=4 bd Dupleix\, Quimper\, Fr
 ance;X-APPLE-RADIUS=100;X-TITLE=Très Tôt Théâtre:geo:47.9949053,-4.098
 470499999962
END:VEVENT
BEGIN:VTIMEZONE
TZID:Europe/Paris
X-LIC-LOCATION:Europe/Paris
BEGIN:STANDARD
DTSTART:20181028T020000
TZOFFSETFROM:+0200
TZOFFSETTO:+0100
TZNAME:CET
END:STANDARD
END:VTIMEZONE
END:VCALENDAR