BEGIN:VCALENDAR
VERSION:2.0
PRODID:-//wp-events-plugin.com//7.2.3.1//EN
BEGIN:VEVENT
UID:190@16ruedeplaisance.org
DTSTART;TZID=Europe/Paris;VALUE=DATE:20190402
DTEND;TZID=Europe/Paris;VALUE=DATE:20190404
DTSTAMP:20190108T102228Z
URL:https://www.16ruedeplaisance.org/evenements/le-jardin-du-possible-59/
SUMMARY:Le Jardin du Possible
DESCRIPTION:Mardi 02 avril à 9h30 et 11h\nMercredi 03 avril à 10h30 et 16
 h00
ATTACH;FMTTYPE=image/jpeg:https://www.16ruedeplaisance.org/wp-content/uplo
 ads/2018/04/le-jardin-du-possible-dominique-verite.jpg
CATEGORIES:Benoit Sicat
LOCATION:Ville de Plabennec\,  \, Plabennec\, France
GEO:48.498961;-4.418542000000002
X-APPLE-STRUCTURED-LOCATION;VALUE=URI;X-ADDRESS= \, Plabennec\, France;X-AP
 PLE-RADIUS=100;X-TITLE=Ville de Plabennec:geo:48.498961,-4.418542000000002
END:VEVENT
BEGIN:VTIMEZONE
TZID:Europe/Paris
X-LIC-LOCATION:Europe/Paris
BEGIN:DAYLIGHT
DTSTART:20190331T030000
TZOFFSETFROM:+0100
TZOFFSETTO:+0200
TZNAME:CEST
END:DAYLIGHT
END:VTIMEZONE
END:VCALENDAR