BEGIN:VCALENDAR
VERSION:2.0
PRODID:-//wp-events-plugin.com//7.2.3.1//EN
BEGIN:VEVENT
UID:194@16ruedeplaisance.org
DTSTART;TZID=Europe/Paris;VALUE=DATE:20190313
DTEND;TZID=Europe/Paris;VALUE=DATE:20190314
DTSTAMP:20190108T102521Z
URL:https://www.16ruedeplaisance.org/evenements/le-jardin-du-possible-61/
SUMMARY:Le Jardin du Possible
DESCRIPTION:
ATTACH;FMTTYPE=image/jpeg:https://www.16ruedeplaisance.org/wp-content/uplo
 ads/2018/04/le-jardin-du-possible-dominique-verite.jpg
CATEGORIES:Benoit Sicat
LOCATION:Ville de Bannalec\,  \, Bannalec\, France
GEO:47.93248699999999;-3.6957499999999754
X-APPLE-STRUCTURED-LOCATION;VALUE=URI;X-ADDRESS= \, Bannalec\, France;X-APP
 LE-RADIUS=100;X-TITLE=Ville de Bannalec:geo:47.93248699999999,-3.695749999
 9999754
END:VEVENT
BEGIN:VTIMEZONE
TZID:Europe/Paris
X-LIC-LOCATION:Europe/Paris
BEGIN:STANDARD
DTSTART:20181028T020000
TZOFFSETFROM:+0200
TZOFFSETTO:+0100
TZNAME:CET
END:STANDARD
END:VTIMEZONE
END:VCALENDAR