BEGIN:VCALENDAR
VERSION:2.0
PRODID:-//wp-events-plugin.com//7.2.3.1//EN
BEGIN:VEVENT
UID:195@16ruedeplaisance.org
DTSTART;TZID=Europe/Paris;VALUE=DATE:20190329
DTEND;TZID=Europe/Paris;VALUE=DATE:20190331
DTSTAMP:20190108T102649Z
URL:https://www.16ruedeplaisance.org/evenements/le-jardin-du-possible-62/
SUMMARY:Le Jardin du Possible
DESCRIPTION:
ATTACH;FMTTYPE=image/jpeg:https://www.16ruedeplaisance.org/wp-content/uplo
 ads/2018/04/le-jardin-du-possible-dominique-verite.jpg
CATEGORIES:Benoit Sicat
LOCATION:Ville de Lesneven\,  \, Lesneven\, France
GEO:48.57208;-4.322290000000066
X-APPLE-STRUCTURED-LOCATION;VALUE=URI;X-ADDRESS= \, Lesneven\, France;X-APP
 LE-RADIUS=100;X-TITLE=Ville de Lesneven:geo:48.57208,-4.322290000000066
END:VEVENT
BEGIN:VTIMEZONE
TZID:Europe/Paris
X-LIC-LOCATION:Europe/Paris
BEGIN:STANDARD
DTSTART:20181028T020000
TZOFFSETFROM:+0200
TZOFFSETTO:+0100
TZNAME:CET
END:STANDARD
END:VTIMEZONE
END:VCALENDAR