BEGIN:VCALENDAR
VERSION:2.0
PRODID:-//wp-events-plugin.com//7.2.3.1//EN
BEGIN:VEVENT
UID:199@16ruedeplaisance.org
DTSTART;TZID=Europe/Paris;VALUE=DATE:20190215
DTEND;TZID=Europe/Paris;VALUE=DATE:20190217
DTSTAMP:20190108T104816Z
URL:https://www.16ruedeplaisance.org/evenements/le-jardin-du-possible-63/
SUMMARY:Ma place à table
DESCRIPTION:Dans le cadre du festival Réel/Ment
ATTACH;FMTTYPE=image/jpeg:https://www.16ruedeplaisance.org/wp-content/uplo
 ads/2018/12/Présentation-Frêres-Pavlov-Web-06.jpg
CATEGORIES:Les frères Pablof
LOCATION:Trio...s - Théâtre du Blavet\,  Rue François le Lève\, Inzinza
 c Lochrist\, 56650\, France
GEO:47.82739;-3.2540500000000065
X-APPLE-STRUCTURED-LOCATION;VALUE=URI;X-ADDRESS= Rue François le Lève\, I
 nzinzac Lochrist\, 56650\, France;X-APPLE-RADIUS=100;X-TITLE=Trio...s - Th
 éâtre du Blavet:geo:47.82739,-3.2540500000000065
END:VEVENT
BEGIN:VTIMEZONE
TZID:Europe/Paris
X-LIC-LOCATION:Europe/Paris
BEGIN:STANDARD
DTSTART:20181028T020000
TZOFFSETFROM:+0200
TZOFFSETTO:+0100
TZNAME:CET
END:STANDARD
END:VTIMEZONE
END:VCALENDAR