BEGIN:VCALENDAR
VERSION:2.0
PRODID:-//wp-events-plugin.com//7.2.3.1//EN
BEGIN:VEVENT
UID:207@16ruedeplaisance.org
DTSTART;TZID=Europe/Paris;VALUE=DATE:20191126
DTEND;TZID=Europe/Paris;VALUE=DATE:20191130
DTSTAMP:20190313T115857Z
URL:https://www.16ruedeplaisance.org/evenements/le-jardin-du-possible-64/
SUMMARY:Le Jardin du Possible
DESCRIPTION:
ATTACH;FMTTYPE=image/jpeg:https://www.16ruedeplaisance.org/wp-content/uplo
 ads/2018/04/le-jardin-du-possible-dominique-verite.jpg
CATEGORIES:Benoit Sicat
LOCATION:Centre culturel Le Rive Gauche\, 20 avenue du Val l’Abbé\, Sain
 t Etienne du Rouvray\, 76806\, France
GEO:49.3797143;1.101478899999961
X-APPLE-STRUCTURED-LOCATION;VALUE=URI;X-ADDRESS=20 avenue du Val l’Abbé\
 , Saint Etienne du Rouvray\, 76806\, France;X-APPLE-RADIUS=100;X-TITLE=Cen
 tre culturel Le Rive Gauche:geo:49.3797143,1.101478899999961
END:VEVENT
BEGIN:VTIMEZONE
TZID:Europe/Paris
X-LIC-LOCATION:Europe/Paris
BEGIN:STANDARD
DTSTART:20191027T020000
TZOFFSETFROM:+0200
TZOFFSETTO:+0100
TZNAME:CET
END:STANDARD
END:VTIMEZONE
END:VCALENDAR