BEGIN:VCALENDAR
VERSION:2.0
PRODID:-//wp-events-plugin.com//7.2.3.1//EN
BEGIN:VEVENT
UID:219@16ruedeplaisance.org
DTSTART;TZID=Europe/Paris;VALUE=DATE:20200206
DTEND;TZID=Europe/Paris;VALUE=DATE:20200207
DTSTAMP:20190723T152130Z
URL:https://www.16ruedeplaisance.org/evenements/le-jardin-du-possible-65/
SUMMARY:Le Jardin du Possible
DESCRIPTION:
ATTACH;FMTTYPE=image/jpeg:https://www.16ruedeplaisance.org/wp-content/uplo
 ads/2018/04/le-jardin-du-possible-dominique-verite.jpg
CATEGORIES:Benoit Sicat
LOCATION:Saison culturelle de Changé\, 6 place Christian d'ELVA\, Changé\
 , 53810\, Canada
GEO:48.0986184;-0.7887478000000101
X-APPLE-STRUCTURED-LOCATION;VALUE=URI;X-ADDRESS=6 place Christian d'ELVA\, 
 Changé\, 53810\, Canada;X-APPLE-RADIUS=100;X-TITLE=Saison culturelle de C
 hangé:geo:48.0986184,-0.7887478000000101
END:VEVENT
BEGIN:VTIMEZONE
TZID:Europe/Paris
X-LIC-LOCATION:Europe/Paris
BEGIN:STANDARD
DTSTART:20191027T020000
TZOFFSETFROM:+0200
TZOFFSETTO:+0100
TZNAME:CET
END:STANDARD
END:VTIMEZONE
END:VCALENDAR