BEGIN:VCALENDAR
VERSION:2.0
PRODID:-//wp-events-plugin.com//7.2.3.1//EN
BEGIN:VEVENT
UID:279@16ruedeplaisance.org
DTSTART;TZID=Europe/Paris:20211119T094500
DTEND;TZID=Europe/Paris:20211120T160000
DTSTAMP:20220114T133239Z
URL:https://www.16ruedeplaisance.org/evenements/le-jardin-du-possible-68/
SUMMARY:Le jardin du possible
DESCRIPTION:
ATTACH;FMTTYPE=image/jpeg:https://www.16ruedeplaisance.org/wp-content/uplo
 ads/2018/04/le-jardin-du-possible-dominique-verite.jpg
LOCATION:Le Pavillon\, 28 avenue Paul-Vaillant-Couturier\, Romainville\, 93
 230\, France
X-APPLE-STRUCTURED-LOCATION;VALUE=URI;X-ADDRESS=28 avenue Paul-Vaillant-Cou
 turier\, Romainville\, 93230\, France;X-APPLE-RADIUS=100;X-TITLE=Le Pavill
 on:geo:0,0
END:VEVENT
BEGIN:VTIMEZONE
TZID:Europe/Paris
X-LIC-LOCATION:Europe/Paris
BEGIN:STANDARD
DTSTART:20211031T020000
TZOFFSETFROM:+0200
TZOFFSETTO:+0100
TZNAME:CET
END:STANDARD
END:VTIMEZONE
END:VCALENDAR