BEGIN:VCALENDAR
VERSION:2.0
PRODID:-//wp-events-plugin.com//7.2.3.1//EN
BEGIN:VEVENT
UID:37@16ruedeplaisance.org
DTSTART;TZID=Europe/Paris;VALUE=DATE:20151208
DTEND;TZID=Europe/Paris;VALUE=DATE:20151212
DTSTAMP:20180417T085353Z
URL:https://www.16ruedeplaisance.org/evenements/le-son-de-la-seve-10/
SUMMARY:Le Son de la Sève
DESCRIPTION:
ATTACH;FMTTYPE=image/jpeg:https://www.16ruedeplaisance.org/wp-content/uplo
 ads/2017/11/4-arbres-compressé.jpg
CATEGORIES:Benoit Sicat
LOCATION:CC Porte du Hainaut\, avenue Michel Rondet\, Wallers\, 59135\, Fra
 nce
GEO:50.383684;3.428675999999996
X-APPLE-STRUCTURED-LOCATION;VALUE=URI;X-ADDRESS=avenue Michel Rondet\, Wall
 ers\, 59135\, France;X-APPLE-RADIUS=100;X-TITLE=CC Porte du Hainaut:geo:50
 .383684,3.428675999999996
END:VEVENT
BEGIN:VTIMEZONE
TZID:Europe/Paris
X-LIC-LOCATION:Europe/Paris
BEGIN:STANDARD
DTSTART:20151025T020000
TZOFFSETFROM:+0200
TZOFFSETTO:+0100
TZNAME:CET
END:STANDARD
END:VTIMEZONE
END:VCALENDAR