BEGIN:VCALENDAR
VERSION:2.0
PRODID:-//wp-events-plugin.com//7.2.3.1//EN
BEGIN:VEVENT
UID:38@16ruedeplaisance.org
DTSTART;TZID=Europe/Paris;VALUE=DATE:20150704
DTEND;TZID=Europe/Paris;VALUE=DATE:20150705
DTSTAMP:20180417T085633Z
URL:https://www.16ruedeplaisance.org/evenements/le-son-de-la-seve-11/
SUMMARY:Le Son de la Sève
DESCRIPTION:
ATTACH;FMTTYPE=image/jpeg:https://www.16ruedeplaisance.org/wp-content/uplo
 ads/2017/11/4-arbres-compressé.jpg
CATEGORIES:Benoit Sicat
LOCATION:Festival Sztuka Szuka Malucha\, ul. Brandstaettera 1\, Poznan\, 61
 659\, Pologne
GEO:52.425425;16.934936900000025
X-APPLE-STRUCTURED-LOCATION;VALUE=URI;X-ADDRESS=ul. Brandstaettera 1\, Pozn
 an\, 61659\, Pologne;X-APPLE-RADIUS=100;X-TITLE=Festival Sztuka Szuka Malu
 cha:geo:52.425425,16.934936900000025
END:VEVENT
BEGIN:VTIMEZONE
TZID:Europe/Paris
X-LIC-LOCATION:Europe/Paris
BEGIN:DAYLIGHT
DTSTART:20150329T030000
TZOFFSETFROM:+0100
TZOFFSETTO:+0200
TZNAME:CEST
END:DAYLIGHT
END:VTIMEZONE
END:VCALENDAR