BEGIN:VCALENDAR
VERSION:2.0
PRODID:-//wp-events-plugin.com//7.2.3.1//EN
BEGIN:VEVENT
UID:39@16ruedeplaisance.org
DTSTART;TZID=Europe/Paris;VALUE=DATE:20150523
DTEND;TZID=Europe/Paris;VALUE=DATE:20150524
DTSTAMP:20180417T085934Z
URL:https://www.16ruedeplaisance.org/evenements/le-son-de-la-seve-12/
SUMMARY:Le Son de la Sève
DESCRIPTION:
ATTACH;FMTTYPE=image/jpeg:https://www.16ruedeplaisance.org/wp-content/uplo
 ads/2017/11/4-arbres-compressé.jpg
CATEGORIES:Benoit Sicat
LOCATION:Festival 3 Käse\, Hoch Tage\, Köln\, Allemagne
GEO:50.937531;6.960278600000038
X-APPLE-STRUCTURED-LOCATION;VALUE=URI;X-ADDRESS=Hoch Tage\, Köln\, Allemag
 ne;X-APPLE-RADIUS=100;X-TITLE=Festival 3 Käse:geo:50.937531,6.96027860000
 0038
END:VEVENT
BEGIN:VTIMEZONE
TZID:Europe/Paris
X-LIC-LOCATION:Europe/Paris
BEGIN:DAYLIGHT
DTSTART:20150329T030000
TZOFFSETFROM:+0100
TZOFFSETTO:+0200
TZNAME:CEST
END:DAYLIGHT
END:VTIMEZONE
END:VCALENDAR