BEGIN:VCALENDAR
VERSION:2.0
PRODID:-//wp-events-plugin.com//7.2.3.1//EN
BEGIN:VEVENT
UID:40@16ruedeplaisance.org
DTSTART;TZID=Europe/Paris;VALUE=DATE:20150426
DTEND;TZID=Europe/Paris;VALUE=DATE:20150428
DTSTAMP:20180417T090122Z
URL:https://www.16ruedeplaisance.org/evenements/le-son-de-la-seve-13/
SUMMARY:Le Son de la Sève
DESCRIPTION:
ATTACH;FMTTYPE=image/jpeg:https://www.16ruedeplaisance.org/wp-content/uplo
 ads/2017/11/4-arbres-compressé.jpg
CATEGORIES:Benoit Sicat
LOCATION:Opéra\, Place de la Comédie\, Bordeaux\, France
GEO:44.8424232;-0.5746173999999655
X-APPLE-STRUCTURED-LOCATION;VALUE=URI;X-ADDRESS=Place de la Comédie\, Bord
 eaux\, France;X-APPLE-RADIUS=100;X-TITLE=Opéra:geo:44.8424232,-0.57461739
 99999655
END:VEVENT
BEGIN:VTIMEZONE
TZID:Europe/Paris
X-LIC-LOCATION:Europe/Paris
BEGIN:DAYLIGHT
DTSTART:20150329T030000
TZOFFSETFROM:+0100
TZOFFSETTO:+0200
TZNAME:CEST
END:DAYLIGHT
END:VTIMEZONE
END:VCALENDAR