BEGIN:VCALENDAR
VERSION:2.0
PRODID:-//wp-events-plugin.com//7.2.3.1//EN
BEGIN:VEVENT
UID:42@16ruedeplaisance.org
DTSTART;TZID=Europe/Paris;VALUE=DATE:20150128
DTEND;TZID=Europe/Paris;VALUE=DATE:20150129
DTSTAMP:20180417T090600Z
URL:https://www.16ruedeplaisance.org/evenements/le-son-de-la-seve-15/
SUMMARY:Le Son de la Sève
DESCRIPTION:
ATTACH;FMTTYPE=image/jpeg:https://www.16ruedeplaisance.org/wp-content/uplo
 ads/2017/11/4-arbres-compressé.jpg
CATEGORIES:Benoit Sicat
LOCATION:Service Culturel\, 3é avenue de la République\, Villiers-le-Bel\
 , France
GEO:48.9769322;2.4227163000000473
X-APPLE-STRUCTURED-LOCATION;VALUE=URI;X-ADDRESS=3é avenue de la Républiqu
 e\, Villiers-le-Bel\, France;X-APPLE-RADIUS=100;X-TITLE=Service Culturel:g
 eo:48.9769322,2.4227163000000473
END:VEVENT
BEGIN:VTIMEZONE
TZID:Europe/Paris
X-LIC-LOCATION:Europe/Paris
BEGIN:STANDARD
DTSTART:20141026T020000
TZOFFSETFROM:+0200
TZOFFSETTO:+0100
TZNAME:CET
END:STANDARD
END:VTIMEZONE
END:VCALENDAR