BEGIN:VCALENDAR
VERSION:2.0
PRODID:-//wp-events-plugin.com//7.2.3.1//EN
BEGIN:VEVENT
UID:44@16ruedeplaisance.org
DTSTART;TZID=Europe/Paris;VALUE=DATE:20141009
DTEND;TZID=Europe/Paris;VALUE=DATE:20141011
DTSTAMP:20180417T091139Z
URL:https://www.16ruedeplaisance.org/evenements/le-son-de-la-seve-17/
SUMMARY:Le Son de la Sève
DESCRIPTION:
ATTACH;FMTTYPE=image/jpeg:https://www.16ruedeplaisance.org/wp-content/uplo
 ads/2017/11/4-arbres-compressé.jpg
CATEGORIES:Benoit Sicat
LOCATION:Festival Récréa’scènes\, 33 place Chanteclair\, Saint Laurent
  de Blangy\, France
GEO:50.30504330000001;2.79073029999995
X-APPLE-STRUCTURED-LOCATION;VALUE=URI;X-ADDRESS=33 place Chanteclair\, Sain
 t Laurent de Blangy\, France;X-APPLE-RADIUS=100;X-TITLE=Festival Récréa
 ’scènes:geo:50.30504330000001,2.79073029999995
END:VEVENT
BEGIN:VTIMEZONE
TZID:Europe/Paris
X-LIC-LOCATION:Europe/Paris
BEGIN:DAYLIGHT
DTSTART:20140330T030000
TZOFFSETFROM:+0100
TZOFFSETTO:+0200
TZNAME:CEST
END:DAYLIGHT
END:VTIMEZONE
END:VCALENDAR