BEGIN:VCALENDAR
VERSION:2.0
PRODID:-//wp-events-plugin.com//7.2.3.1//EN
BEGIN:VEVENT
UID:45@16ruedeplaisance.org
DTSTART;TZID=Europe/Paris;VALUE=DATE:20140921
DTEND;TZID=Europe/Paris;VALUE=DATE:20140922
DTSTAMP:20180417T091433Z
URL:https://www.16ruedeplaisance.org/evenements/le-son-de-la-seve-18/
SUMMARY:Le Son de la Sève
DESCRIPTION:
ATTACH;FMTTYPE=image/jpeg:https://www.16ruedeplaisance.org/wp-content/uplo
 ads/2017/11/4-arbres-compressé.jpg
CATEGORIES:Benoit Sicat
LOCATION:Journée du patrimoine - Jardin des Plantes\, 43 Grande Rue Sapiac
 \, Montauban\, 82000\, France
GEO:44.0132398;1.3508894000000282
X-APPLE-STRUCTURED-LOCATION;VALUE=URI;X-ADDRESS=43 Grande Rue Sapiac\, Mont
 auban\, 82000\, France;X-APPLE-RADIUS=100;X-TITLE=Journée du patrimoine -
  Jardin des Plantes:geo:44.0132398,1.3508894000000282
END:VEVENT
BEGIN:VTIMEZONE
TZID:Europe/Paris
X-LIC-LOCATION:Europe/Paris
BEGIN:DAYLIGHT
DTSTART:20140330T030000
TZOFFSETFROM:+0100
TZOFFSETTO:+0200
TZNAME:CEST
END:DAYLIGHT
END:VTIMEZONE
END:VCALENDAR