BEGIN:VCALENDAR
VERSION:2.0
PRODID:-//wp-events-plugin.com//7.2.3.1//EN
BEGIN:VEVENT
UID:46@16ruedeplaisance.org
DTSTART;TZID=Europe/Paris;VALUE=DATE:20140522
DTEND;TZID=Europe/Paris;VALUE=DATE:20140526
DTSTAMP:20180417T091845Z
URL:https://www.16ruedeplaisance.org/evenements/le-son-de-la-seve-19/
SUMMARY:Le Son de la Sève
DESCRIPTION:
ATTACH;FMTTYPE=image/jpeg:https://www.16ruedeplaisance.org/wp-content/uplo
 ads/2017/11/4-arbres-compressé.jpg
CATEGORIES:Benoit Sicat
LOCATION:Festival Luluberlu\, Odyssud\, Blagnac\, France
GEO:43.6346589;1.386416199999985
X-APPLE-STRUCTURED-LOCATION;VALUE=URI;X-ADDRESS=Odyssud\, Blagnac\, France;
 X-APPLE-RADIUS=100;X-TITLE=Festival Luluberlu:geo:43.6346589,1.38641619999
 9985
END:VEVENT
BEGIN:VTIMEZONE
TZID:Europe/Paris
X-LIC-LOCATION:Europe/Paris
BEGIN:DAYLIGHT
DTSTART:20140330T030000
TZOFFSETFROM:+0100
TZOFFSETTO:+0200
TZNAME:CEST
END:DAYLIGHT
END:VTIMEZONE
END:VCALENDAR