BEGIN:VCALENDAR
VERSION:2.0
PRODID:-//wp-events-plugin.com//7.2.3.1//EN
BEGIN:VEVENT
UID:27@16ruedeplaisance.org
DTSTART;TZID=Europe/Paris;VALUE=DATE:20170209
DTEND;TZID=Europe/Paris;VALUE=DATE:20170210
DTSTAMP:20180417T081802Z
URL:https://www.16ruedeplaisance.org/evenements/le-son-de-la-seve-2/
SUMMARY:Le Son de la Sève
DESCRIPTION:
ATTACH;FMTTYPE=image/jpeg:https://www.16ruedeplaisance.org/wp-content/uplo
 ads/2017/11/4-arbres-compressé.jpg
CATEGORIES:Benoit Sicat
LOCATION:Plateau en toute liberté\, 3 Rue Roger Salengro\, Lorient\, 56100
 \, France
GEO:47.7621621;-3.3871341000000257
X-APPLE-STRUCTURED-LOCATION;VALUE=URI;X-ADDRESS=3 Rue Roger Salengro\, Lori
 ent\, 56100\, France;X-APPLE-RADIUS=100;X-TITLE=Plateau en toute liberté:
 geo:47.7621621,-3.3871341000000257
END:VEVENT
BEGIN:VTIMEZONE
TZID:Europe/Paris
X-LIC-LOCATION:Europe/Paris
BEGIN:STANDARD
DTSTART:20161030T020000
TZOFFSETFROM:+0200
TZOFFSETTO:+0100
TZNAME:CET
END:STANDARD
END:VTIMEZONE
END:VCALENDAR