BEGIN:VCALENDAR
VERSION:2.0
PRODID:-//wp-events-plugin.com//7.2.3.1//EN
BEGIN:VEVENT
UID:47@16ruedeplaisance.org
DTSTART;TZID=Europe/Paris;VALUE=DATE:20140211
DTEND;TZID=Europe/Paris;VALUE=DATE:20140215
DTSTAMP:20180417T092310Z
URL:https://www.16ruedeplaisance.org/evenements/le-son-de-la-seve-20/
SUMMARY:Le Son de la Sève
DESCRIPTION:
ATTACH;FMTTYPE=image/jpeg:https://www.16ruedeplaisance.org/wp-content/uplo
 ads/2017/11/4-arbres-compressé.jpg
CATEGORIES:Benoit Sicat
LOCATION:Espace Sarah Bernard\, 82 Boulevard Paul Vaillant Couturier\, Gous
 sainville\, 95000\, France
GEO:49.03224240000001;2.472013899999979
X-APPLE-STRUCTURED-LOCATION;VALUE=URI;X-ADDRESS=82 Boulevard Paul Vaillant 
 Couturier\, Goussainville\, 95000\, France;X-APPLE-RADIUS=100;X-TITLE=Espa
 ce Sarah Bernard:geo:49.03224240000001,2.472013899999979
END:VEVENT
BEGIN:VTIMEZONE
TZID:Europe/Paris
X-LIC-LOCATION:Europe/Paris
BEGIN:STANDARD
DTSTART:20131027T020000
TZOFFSETFROM:+0200
TZOFFSETTO:+0100
TZNAME:CET
END:STANDARD
END:VTIMEZONE
END:VCALENDAR