BEGIN:VCALENDAR
VERSION:2.0
PRODID:-//wp-events-plugin.com//7.2.3.1//EN
BEGIN:VEVENT
UID:48@16ruedeplaisance.org
DTSTART;TZID=Europe/Paris;VALUE=DATE:20131124
DTEND;TZID=Europe/Paris;VALUE=DATE:20131125
DTSTAMP:20180417T114904Z
URL:https://www.16ruedeplaisance.org/evenements/le-son-de-la-seve-21/
SUMMARY:Le Son de la Sève
DESCRIPTION:
ATTACH;FMTTYPE=image/jpeg:https://www.16ruedeplaisance.org/wp-content/uplo
 ads/2017/11/4-arbres-compressé.jpg
CATEGORIES:Benoit Sicat
LOCATION:Le Moulin du Palacret\, le Palacret\, Saint Laurent\, 22140\, Fran
 ce
GEO:48.61944;-3.2474580000000515
X-APPLE-STRUCTURED-LOCATION;VALUE=URI;X-ADDRESS=le Palacret\, Saint Laurent
 \, 22140\, France;X-APPLE-RADIUS=100;X-TITLE=Le Moulin du Palacret:geo:48.
 61944,-3.2474580000000515
END:VEVENT
BEGIN:VTIMEZONE
TZID:Europe/Paris
X-LIC-LOCATION:Europe/Paris
BEGIN:STANDARD
DTSTART:20131027T020000
TZOFFSETFROM:+0200
TZOFFSETTO:+0100
TZNAME:CET
END:STANDARD
END:VTIMEZONE
END:VCALENDAR