BEGIN:VCALENDAR
VERSION:2.0
PRODID:-//wp-events-plugin.com//7.2.3.1//EN
BEGIN:VEVENT
UID:49@16ruedeplaisance.org
DTSTART;TZID=Europe/Paris;VALUE=DATE:20131002
DTEND;TZID=Europe/Paris;VALUE=DATE:20131004
DTSTAMP:20180417T115246Z
URL:https://www.16ruedeplaisance.org/evenements/le-son-de-la-seve-22/
SUMMARY:Le Son de la Sève
DESCRIPTION:
ATTACH;FMTTYPE=image/jpeg:https://www.16ruedeplaisance.org/wp-content/uplo
 ads/2017/11/4-arbres-compressé.jpg
CATEGORIES:Benoit Sicat
LOCATION:Festival\, Place du Général de Gaulle\, Saint Julien en Genevois
 \, 74160\, France
GEO:46.1442432;6.081595900000025
X-APPLE-STRUCTURED-LOCATION;VALUE=URI;X-ADDRESS=Place du Général de Gaull
 e\, Saint Julien en Genevois\, 74160\, France;X-APPLE-RADIUS=100;X-TITLE=F
 estival:geo:46.1442432,6.081595900000025
END:VEVENT
BEGIN:VTIMEZONE
TZID:Europe/Paris
X-LIC-LOCATION:Europe/Paris
BEGIN:DAYLIGHT
DTSTART:20130331T030000
TZOFFSETFROM:+0100
TZOFFSETTO:+0200
TZNAME:CEST
END:DAYLIGHT
END:VTIMEZONE
END:VCALENDAR