BEGIN:VCALENDAR
VERSION:2.0
PRODID:-//wp-events-plugin.com//7.2.3.1//EN
BEGIN:VEVENT
UID:50@16ruedeplaisance.org
DTSTART;TZID=Europe/Paris;VALUE=DATE:20130928
DTEND;TZID=Europe/Paris;VALUE=DATE:20130930
DTSTAMP:20180417T115408Z
URL:https://www.16ruedeplaisance.org/evenements/le-son-de-la-seve-23/
SUMMARY:Le Son de la Sève
DESCRIPTION:
ATTACH;FMTTYPE=image/jpeg:https://www.16ruedeplaisance.org/wp-content/uplo
 ads/2017/11/4-arbres-compressé.jpg
CATEGORIES:Benoit Sicat
LOCATION:Festival 2 Turven Hoog\, schilderswijk\, La Haye\, Pays-Bas
GEO:52.0670948;4.30828710000003
X-APPLE-STRUCTURED-LOCATION;VALUE=URI;X-ADDRESS=schilderswijk\, La Haye\, P
 ays-Bas;X-APPLE-RADIUS=100;X-TITLE=Festival 2 Turven Hoog:geo:52.0670948,4
 .30828710000003
END:VEVENT
BEGIN:VTIMEZONE
TZID:Europe/Paris
X-LIC-LOCATION:Europe/Paris
BEGIN:DAYLIGHT
DTSTART:20130331T030000
TZOFFSETFROM:+0100
TZOFFSETTO:+0200
TZNAME:CEST
END:DAYLIGHT
END:VTIMEZONE
END:VCALENDAR