BEGIN:VCALENDAR
VERSION:2.0
PRODID:-//wp-events-plugin.com//7.2.3.1//EN
BEGIN:VEVENT
UID:51@16ruedeplaisance.org
DTSTART;TZID=Europe/Paris;VALUE=DATE:20130622
DTEND;TZID=Europe/Paris;VALUE=DATE:20130623
DTSTAMP:20180417T115636Z
URL:https://www.16ruedeplaisance.org/evenements/le-son-de-la-seve-24/
SUMMARY:Le Son de la Sève
DESCRIPTION:
ATTACH;FMTTYPE=image/jpeg:https://www.16ruedeplaisance.org/wp-content/uplo
 ads/2017/11/4-arbres-compressé.jpg
CATEGORIES:Benoit Sicat
LOCATION:réseau Au fil de l'eau\, ploëzal\, Pontrieux\, France
GEO:48.6972499;-3.1629609999999957
X-APPLE-STRUCTURED-LOCATION;VALUE=URI;X-ADDRESS=ploëzal\, Pontrieux\, Fran
 ce;X-APPLE-RADIUS=100;X-TITLE=réseau Au fil de l'eau:geo:48.6972499,-3.16
 29609999999957
END:VEVENT
BEGIN:VTIMEZONE
TZID:Europe/Paris
X-LIC-LOCATION:Europe/Paris
BEGIN:DAYLIGHT
DTSTART:20130331T030000
TZOFFSETFROM:+0100
TZOFFSETTO:+0200
TZNAME:CEST
END:DAYLIGHT
END:VTIMEZONE
END:VCALENDAR