BEGIN:VCALENDAR
VERSION:2.0
PRODID:-//wp-events-plugin.com//7.2.3.1//EN
BEGIN:VEVENT
UID:52@16ruedeplaisance.org
DTSTART;TZID=Europe/Paris;VALUE=DATE:20130525
DTEND;TZID=Europe/Paris;VALUE=DATE:20130527
DTSTAMP:20180417T120148Z
URL:https://www.16ruedeplaisance.org/evenements/le-son-de-la-seve-25/
SUMMARY:Le Son de la Sève
DESCRIPTION:
ATTACH;FMTTYPE=image/jpeg:https://www.16ruedeplaisance.org/wp-content/uplo
 ads/2017/11/4-arbres-compressé.jpg
CATEGORIES:Benoit Sicat
LOCATION:Ancienne prison\,  4\, rue Auguste Pavie\, Guingamp\, France
GEO:48.561698;-3.1469500000000608
X-APPLE-STRUCTURED-LOCATION;VALUE=URI;X-ADDRESS= 4\, rue Auguste Pavie\, Gu
 ingamp\, France;X-APPLE-RADIUS=100;X-TITLE=Ancienne prison:geo:48.561698,-
 3.1469500000000608
END:VEVENT
BEGIN:VTIMEZONE
TZID:Europe/Paris
X-LIC-LOCATION:Europe/Paris
BEGIN:DAYLIGHT
DTSTART:20130331T030000
TZOFFSETFROM:+0100
TZOFFSETTO:+0200
TZNAME:CEST
END:DAYLIGHT
END:VTIMEZONE
END:VCALENDAR