BEGIN:VCALENDAR
VERSION:2.0
PRODID:-//wp-events-plugin.com//7.2.3.1//EN
BEGIN:VEVENT
UID:53@16ruedeplaisance.org
DTSTART;TZID=Europe/Paris;VALUE=DATE:20130325
DTEND;TZID=Europe/Paris;VALUE=DATE:20130330
DTSTAMP:20180417T120354Z
URL:https://www.16ruedeplaisance.org/evenements/le-son-de-la-seve-26/
SUMMARY:Le Son de la Sève
DESCRIPTION:
ATTACH;FMTTYPE=image/jpeg:https://www.16ruedeplaisance.org/wp-content/uplo
 ads/2017/11/4-arbres-compressé.jpg
CATEGORIES:Benoit Sicat
LOCATION:Saison Jeune Public\, place de la mairie\, Nanterre\, France
GEO:48.89204369999999;2.2071324999999433
X-APPLE-STRUCTURED-LOCATION;VALUE=URI;X-ADDRESS=place de la mairie\, Nanter
 re\, France;X-APPLE-RADIUS=100;X-TITLE=Saison Jeune Public:geo:48.89204369
 999999,2.2071324999999433
END:VEVENT
BEGIN:VTIMEZONE
TZID:Europe/Paris
X-LIC-LOCATION:Europe/Paris
BEGIN:STANDARD
DTSTART:20121028T020000
TZOFFSETFROM:+0200
TZOFFSETTO:+0100
TZNAME:CET
END:STANDARD
END:VTIMEZONE
END:VCALENDAR